BEGIN:VCALENDAR
VERSION:2.0
PRODID:-// - ECPv6.15.17.1//NONSGML v1.0//EN
CALSCALE:GREGORIAN
METHOD:PUBLISH
X-ORIGINAL-URL:https://www.springgroveprimary.london
X-WR-CALDESC:Events for 
REFRESH-INTERVAL;VALUE=DURATION:PT1H
X-Robots-Tag:noindex
X-PUBLISHED-TTL:PT1H
BEGIN:VTIMEZONE
TZID:Europe/London
BEGIN:DAYLIGHT
TZOFFSETFROM:+0000
TZOFFSETTO:+0100
TZNAME:BST
DTSTART:20250330T010000
END:DAYLIGHT
BEGIN:STANDARD
TZOFFSETFROM:+0100
TZOFFSETTO:+0000
TZNAME:GMT
DTSTART:20251026T010000
END:STANDARD
BEGIN:DAYLIGHT
TZOFFSETFROM:+0000
TZOFFSETTO:+0100
TZNAME:BST
DTSTART:20260329T010000
END:DAYLIGHT
BEGIN:STANDARD
TZOFFSETFROM:+0100
TZOFFSETTO:+0000
TZNAME:GMT
DTSTART:20261025T010000
END:STANDARD
BEGIN:DAYLIGHT
TZOFFSETFROM:+0000
TZOFFSETTO:+0100
TZNAME:BST
DTSTART:20270328T010000
END:DAYLIGHT
BEGIN:STANDARD
TZOFFSETFROM:+0100
TZOFFSETTO:+0000
TZNAME:GMT
DTSTART:20271031T010000
END:STANDARD
END:VTIMEZONE
BEGIN:VEVENT
DTSTART;TZID=Europe/London:20260209T140000
DTEND;TZID=Europe/London:20260209T143000
DTSTAMP:20260422T011651
CREATED:20260119T092314Z
LAST-MODIFIED:20260119T092321Z
UID:20270-1770645600-1770647400@www.springgroveprimary.london
SUMMARY:Nursery School Tour
DESCRIPTION:Nursery School Tour
URL:https://www.springgroveprimary.london/events/nursery-school-tour-2/
CATEGORIES:School Tours
END:VEVENT
BEGIN:VEVENT
DTSTART;TZID=Europe/London:20260210T100000
DTEND;TZID=Europe/London:20260210T170000
DTSTAMP:20260422T011651
CREATED:20260117T202235Z
LAST-MODIFIED:20260117T202235Z
UID:20258-1770717600-1770742800@www.springgroveprimary.london
SUMMARY:Spring Parents Evening (Reception only)
DESCRIPTION:Spring Parents Evening (Reception only)
URL:https://www.springgroveprimary.london/events/spring-parents-evening-reception-only/
CATEGORIES:Events
END:VEVENT
BEGIN:VEVENT
DTSTART;VALUE=DATE:20260216
DTEND;VALUE=DATE:20260221
DTSTAMP:20260422T011651
CREATED:20251030T121423Z
LAST-MODIFIED:20251030T121423Z
UID:19951-1771200000-1771631999@www.springgroveprimary.london
SUMMARY:Half Term Break
DESCRIPTION:
URL:https://www.springgroveprimary.london/events/half-term-break-2/
CATEGORIES:Holidays
END:VEVENT
BEGIN:VEVENT
DTSTART;VALUE=DATE:20260223
DTEND;VALUE=DATE:20260224
DTSTAMP:20260422T011651
CREATED:20251030T121423Z
LAST-MODIFIED:20251030T121423Z
UID:19952-1771804800-1771891199@www.springgroveprimary.london
SUMMARY:Return to School
DESCRIPTION:
URL:https://www.springgroveprimary.london/events/return-to-school-2/
CATEGORIES:Term Dates
END:VEVENT
BEGIN:VEVENT
DTSTART;TZID=Europe/London:20260223T140000
DTEND;TZID=Europe/London:20260223T143000
DTSTAMP:20260422T011651
CREATED:20260119T092414Z
LAST-MODIFIED:20260119T092414Z
UID:20272-1771855200-1771857000@www.springgroveprimary.london
SUMMARY:Nursery School Tour
DESCRIPTION:Nursery School Tour
URL:https://www.springgroveprimary.london/events/nursery-school-tour-3/
CATEGORIES:School Tours
END:VEVENT
BEGIN:VEVENT
DTSTART;TZID=Europe/London:20260224T160000
DTEND;TZID=Europe/London:20260224T180000
DTSTAMP:20260422T011651
CREATED:20260117T201724Z
LAST-MODIFIED:20260117T201724Z
UID:20254-1771948800-1771956000@www.springgroveprimary.london
SUMMARY:Spring Parents Evening (Year 1 to Year 6)
DESCRIPTION:Spring Parents Evening (Year 1 to Year 6)
URL:https://www.springgroveprimary.london/events/spring-parents-evening-year-1-to-year-6/
CATEGORIES:Events
END:VEVENT
BEGIN:VEVENT
DTSTART;TZID=Europe/London:20260226T090000
DTEND;TZID=Europe/London:20260226T173000
DTSTAMP:20260422T011651
CREATED:20260117T202650Z
LAST-MODIFIED:20260117T202705Z
UID:20260-1772096400-1772127000@www.springgroveprimary.london
SUMMARY:Spring Parents Evening (Nursery Only)
DESCRIPTION:Spring Parents Evening (Nursery)
URL:https://www.springgroveprimary.london/events/spring-parents-evening-nursery-only/
CATEGORIES:Events
END:VEVENT
BEGIN:VEVENT
DTSTART;TZID=Europe/London:20260226T160000
DTEND;TZID=Europe/London:20260226T190000
DTSTAMP:20260422T011651
CREATED:20260117T202035Z
LAST-MODIFIED:20260117T203158Z
UID:20256-1772121600-1772132400@www.springgroveprimary.london
SUMMARY:Spring Parents Evening ( Year 1 to Year 6)
DESCRIPTION:Spring Parents Evening ( Year 1 to Year 6)
URL:https://www.springgroveprimary.london/events/spring-parents-evening-nursery-and-year-1-to-year-6/
CATEGORIES:Events
END:VEVENT
END:VCALENDAR